BEGIN:VCALENDAR
VERSION:2.0
PRODID:-//Luso-American Financial - ECPv6.15.20//NONSGML v1.0//EN
CALSCALE:GREGORIAN
METHOD:PUBLISH
X-ORIGINAL-URL:https://lusoamericanfinancial.org
X-WR-CALDESC:Events for Luso-American Financial
REFRESH-INTERVAL;VALUE=DURATION:PT1H
X-Robots-Tag:noindex
X-PUBLISHED-TTL:PT1H
BEGIN:VTIMEZONE
TZID:America/Los_Angeles
BEGIN:DAYLIGHT
TZOFFSETFROM:-0800
TZOFFSETTO:-0700
TZNAME:PDT
DTSTART:20240310T100000
END:DAYLIGHT
BEGIN:STANDARD
TZOFFSETFROM:-0700
TZOFFSETTO:-0800
TZNAME:PST
DTSTART:20241103T090000
END:STANDARD
BEGIN:DAYLIGHT
TZOFFSETFROM:-0800
TZOFFSETTO:-0700
TZNAME:PDT
DTSTART:20250309T100000
END:DAYLIGHT
BEGIN:STANDARD
TZOFFSETFROM:-0700
TZOFFSETTO:-0800
TZNAME:PST
DTSTART:20251102T090000
END:STANDARD
BEGIN:DAYLIGHT
TZOFFSETFROM:-0800
TZOFFSETTO:-0700
TZNAME:PDT
DTSTART:20260308T100000
END:DAYLIGHT
BEGIN:STANDARD
TZOFFSETFROM:-0700
TZOFFSETTO:-0800
TZNAME:PST
DTSTART:20261101T090000
END:STANDARD
END:VTIMEZONE
BEGIN:VEVENT
DTSTART;TZID=America/Los_Angeles:20250503T113000
DTEND;TZID=America/Los_Angeles:20250503T153000
DTSTAMP:20260423T123906
CREATED:20250227T033142Z
LAST-MODIFIED:20250428T170408Z
UID:682-1746271800-1746286200@lusoamericanfinancial.org
SUMMARY:President’s Visit for Councils 113S Fort Bragg/Mendocino
DESCRIPTION:Please RSVP by 4/28 to Maria George: 707-477-8543
URL:https://lusoamericanfinancial.org/event/presidents-visit-for-counsel-113s-fort-bragg-mendocino/
LOCATION:Harbor View Bistro & Bar\, Main Building\, 500 Casa Del Noyo\, Fort Bragg\, CA\, 95437\, United States
CATEGORIES:Presidents Visits
END:VEVENT
BEGIN:VEVENT
DTSTART;TZID=America/Los_Angeles:20250504T140000
DTEND;TZID=America/Los_Angeles:20250504T180000
DTSTAMP:20260423T123906
CREATED:20250227T035011Z
LAST-MODIFIED:20250428T170657Z
UID:700-1746367200-1746381600@lusoamericanfinancial.org
SUMMARY:President's Visit for Councils 5L of Idaho
DESCRIPTION:It’s Presidents\, Officers and members cordially invite you and your family To attend the Official Visit honoring Roxann Burns Aguilar\, Fraternal President. Please join us at the Magic Valley Portuguese Hall\, for Dinner starting at 7:00 PM. \n  \nTo RSVP or for more information please contact:\nBernadette Gomes 208-421-3291
URL:https://lusoamericanfinancial.org/event/presidents-visit-for-councils-5l-of-idaho/
LOCATION:Magic Valley Portuguese Hall\, 625 E Avenue F\, Wendell\, ID\, 83355\, United States
CATEGORIES:Presidents Visits
END:VEVENT
BEGIN:VEVENT
DTSTART;TZID=America/Los_Angeles:20250514T130000
DTEND;TZID=America/Los_Angeles:20250514T130000
DTSTAMP:20260423T123906
CREATED:20250227T034058Z
LAST-MODIFIED:20250513T234216Z
UID:690-1747227600-1747227600@lusoamericanfinancial.org
SUMMARY:President's Visit for Council 15S
DESCRIPTION:PLEASE RSVP TO: \nMarilynn Queen 408-805-2357
URL:https://lusoamericanfinancial.org/event/presidents-visit-for-council-15s/
LOCATION:El Amigo Burrito\, 4485 Stevens Creek Blvd\, Santa Clara\, 95051\, United States
CATEGORIES:Presidents Visits
END:VEVENT
BEGIN:VEVENT
DTSTART;TZID=America/Los_Angeles:20250517T123000
DTEND;TZID=America/Los_Angeles:20250517T170000
DTSTAMP:20260423T123906
CREATED:20250227T034649Z
LAST-MODIFIED:20250513T234314Z
UID:695-1747485000-1747501200@lusoamericanfinancial.org
SUMMARY:President's Visit for Councils 49B-55C 34B\, 23B-45C\, YC #24\, YC#8 & YC25 20-30's #5 & #6
DESCRIPTION:Modesto\, Manteca & Tracy \n  \nPlease RSVP to:  \nCarol Silva 209-620-3680\nLinda Brito 209-639-1353\nMary Silva 209-481-3904
URL:https://lusoamericanfinancial.org/event/presidents-visit-for-councils-49b-55c-34b-23b-45c-yc-24-yc8-yc25-20-30s-5-6/
LOCATION:FESM Portuguese Hall\, 240 N Main St.\, Manteca\, CA\, 95336\, United States
CATEGORIES:Presidents Visits
END:VEVENT
END:VCALENDAR